BEGIN:VCALENDAR
PRODID:-//AT Content Types//AT Event//EN
VERSION:2.0
METHOD:PUBLISH
BEGIN:VEVENT
DTSTAMP:20260422T003116Z
CREATED:20080727T215658Z
UID:ATEvent-ba1a0f94d561bb0327be7e24ca4b2a5a
LAST-MODIFIED:20080727T215711Z
SUMMARY:test
DTSTART:20080727T215658Z
DTEND:20080727T215658Z
CLASS:PUBLIC
END:VEVENT
END:VCALENDAR
