BEGIN:VCALENDAR
PRODID:-//AT Content Types//AT Event//EN
VERSION:2.0
METHOD:PUBLISH
BEGIN:VEVENT
DTSTAMP:20260425T134027Z
CREATED:20080612T205610Z
UID:ATEvent-ba08f40e4d2def80bff8f4ec7d355538
LAST-MODIFIED:20080612T210002Z
SUMMARY:Sat.1 Automagazin \: Bericht über Car-PC
DTSTART:20080621T150000Z
DTEND:20080621T153000Z
DESCRIPTION:Sat.1 Automagazin berichtet über tentacle's Car-PC.
LOCATION:Sat.1
URL:http://www.car-pc.info/phpBB2/viewtopic.php?p=233272#233272
CLASS:PUBLIC
END:VEVENT
END:VCALENDAR
