BEGIN:VCALENDAR
PRODID:-//AT Content Types//AT Event//EN
VERSION:1.0
BEGIN:VEVENT
DTSTART:20080816T100000Z
DTEND:20080816T215500Z
DCREATED:20080727T174505Z
UID:ATEvent-de6cba49c4f7e8575be816ba229f9208
SEQUENCE:0
LAST-MODIFIED:20080727T220902Z
SUMMARY:5.NRW-Treffen
DESCRIPTION:Wir treffen uns wie üblich am Roadstop in Essen (auf dem 
 Parkplatz gegenüber vom Roadstop) Eingeladen ist jeder der Lust und Z
 eit hat\, egal ob mit oder ohne CPC. Mehr Infos zum Treffen findet ihr
  hier.
LOCATION:Essen
PRIORITY:3
TRANSP:0
END:VEVENT
END:VCALENDAR
