BEGIN:VCALENDAR
PRODID:-//AT Content Types//AT Event//EN
VERSION:2.0
METHOD:PUBLISH
BEGIN:VEVENT
DTSTAMP:20260421T001631Z
CREATED:20080730T060148Z
UID:ATEvent-3c5aaa9f24cee84883a55ac2de628221
LAST-MODIFIED:20080730T222853Z
SUMMARY:8. CarPC-Treffen Dresden
DTSTART:20080927T110000Z
DTEND:20080927T215500Z
DESCRIPTION:Das zweite Treffen in diesem Jahr steht vor der Tür\, som
 it das 8. CarPC Treffen in Dresden. Es ist natürlich wie immer kosten
 los und für alle die das Thema CarPC interessiert\, egal ob mit oder 
 ohne PC Einbau.
LOCATION:Dresden
CATEGORIES:CarPC-Treffen.de
CONTACT:MacG\, dresden@carpc-treffen.de
URL:http://www.carpc-treffen.de/component/option,com_eventlist/Itemid,114/func,details/did,111/
CLASS:PUBLIC
END:VEVENT
END:VCALENDAR
