BEGIN:VCALENDAR
PRODID:-//AT Content Types//AT Event//EN
VERSION:1.0
BEGIN:VEVENT
DTSTART:20080517T110000Z
DTEND:20080517T220000Z
DCREATED:20080224T025443Z
UID:ATEvent-d3e6039739c33bea2ab4bec2bc1f2348
SEQUENCE:0
LAST-MODIFIED:20080224T025625Z
SUMMARY:CarPC-Treffen Dresden
DESCRIPTION:Das somit 7. CarPC Treffen in Dresden\, ist natürlich wie
  immer kostenlos und für alle die das Thema CarPC interessiert\, ob m
 it oder ohne PC Einbau.
LOCATION:Dresden
PRIORITY:3
TRANSP:0
END:VEVENT
END:VCALENDAR
