BEGIN:VCALENDAR
PRODID:-//AT Content Types//AT Event//EN
VERSION:1.0
BEGIN:VEVENT
DTSTART:20080426T160000Z
DTEND:20080426T220000Z
DCREATED:20080224T025014Z
UID:ATEvent-5a929687b199fbb85eac4a8907682e2b
SEQUENCE:0
LAST-MODIFIED:20080224T032443Z
SUMMARY:CarPC-Treffen Linz
LOCATION:Linz\, Österreich
PRIORITY:3
TRANSP:0
END:VEVENT
END:VCALENDAR
