BEGIN:VCALENDAR
PRODID:-//AT Content Types//AT Event//EN
VERSION:1.0
BEGIN:VEVENT
DTSTART:20080406T104000Z
DTEND:20080406T220000Z
DCREATED:20080317T003803Z
UID:ATEvent-58d3285a5e1f64c482eb0b13dbddc112
SEQUENCE:0
LAST-MODIFIED:20080317T004114Z
SUMMARY:CarPC-Treffen in NRW
DESCRIPTION:Wie immer ist jeder herzlichst eingeladen\, egal ob mit od
 er ohne CPC. Wir hoffen das ihr alle so zahlreich wie beim letzten mal
  erscheint.
LOCATION:Roadstop in Essen Meisenburgstraße 255 D-45133 Essen
PRIORITY:3
TRANSP:0
END:VEVENT
END:VCALENDAR
