BEGIN:VCALENDAR
PRODID:-//AT Content Types//AT Event//EN
VERSION:2.0
METHOD:PUBLISH
BEGIN:VEVENT
DTSTAMP:20260421T030044Z
CREATED:20080224T032458Z
UID:ATEvent-8c763da04612188b5af905f8da207899
LAST-MODIFIED:20080224T032706Z
SUMMARY:CarPC-Treffen München
DTSTART:20080628T110000Z
DTEND:20080628T220000Z
DESCRIPTION:Das CarPC Treffen findet diesmal im Juni statt\, selbstver
 ständlich wieder kostenlos und für alle die das Thema CarPC intressi
 ert\, ob mit oder ohne PC Einbau.
LOCATION:München
CATEGORIES:CarPC-Treffen.de
CONTACT:roan\, muenchen@carpc-treffen.de
URL:http://www.carpc-treffen.de/component/option,com_eventlist/Itemid,31/func,details/did,93/
CLASS:PUBLIC
END:VEVENT
END:VCALENDAR
