BEGIN:VCALENDAR
PRODID:-//AT Content Types//AT Event//EN
VERSION:1.0
BEGIN:VEVENT
DTSTART:20080920T120000Z
DTEND:20080920T215500Z
DCREATED:20080727T175137Z
UID:ATEvent-62ae011543a03e366cb89a64348863de
SEQUENCE:0
LAST-MODIFIED:20080917T185629Z
SUMMARY:CarPC Treffen Rosenheim
DESCRIPTION:So als Jahres abschlusstreffen (denk mal es is das lezte)d
 acht ich mir\, wir treffen uns mal im schönen Rosenheim. Wenn alle da
  sind\, und das Wetter mitspielt können wir an nen See fahren und gri
 llen...
LOCATION:Rosenheim
PRIORITY:3
TRANSP:0
END:VEVENT
END:VCALENDAR
