BEGIN:VCALENDAR
PRODID:-//AT Content Types//AT Event//EN
VERSION:2.0
METHOD:PUBLISH
BEGIN:VEVENT
DTSTAMP:20260421T020830Z
CREATED:20080224T032726Z
UID:ATEvent-5b1f24679967ccdec65fbb66b516f233
LAST-MODIFIED:20080224T032909Z
SUMMARY:CarPC-Treffen Südpfalz
DTSTART:20080719T150000Z
DTEND:20080719T220000Z
DESCRIPTION:Zum dritten mal treffen wir uns in der Südpfalz\, selbstv
 erständlich kostenlos und für alle die das Thema CarPC interessiert\
 , ob mit oder ohne PC Einbau.
LOCATION:Göcklingen
CATEGORIES:CarPC-Treffen.de
CONTACT:nightmare\, landau@carpc-treffen.de
URL:http://www.carpc-treffen.de/component/option,com_eventlist/Itemid,31/func,details/did,67/
CLASS:PUBLIC
END:VEVENT
END:VCALENDAR
