BEGIN:VCALENDAR
PRODID:-//AT Content Types//AT Event//EN
VERSION:2.0
METHOD:PUBLISH
BEGIN:VEVENT
DTSTAMP:20260421T012418Z
CREATED:20080917T184954Z
UID:ATEvent-7c35406e1b269706c3058d71e415d49a
LAST-MODIFIED:20080917T192853Z
SUMMARY:Der Nürnberger CarPC Stammtisch
DTSTART:20081016T220000Z
DTEND:20081016T220000Z
DESCRIPTION:der Nürnberger CarPC Stammtisch ist für alle die einmal 
 im Monat abends nicht vor dem Bildschirm Tippen wollen...
LOCATION:90429 Nürnberg
CONTACT:billy\, billy@carpc-treffen.de
URL:http://www.carpc-treffen.de/component/option,com_eventlist/Itemid,114/func,details/did,112/
CLASS:PUBLIC
END:VEVENT
END:VCALENDAR
