BEGIN:VCALENDAR
PRODID:-//AT Content Types//AT Event//EN
VERSION:2.0
METHOD:PUBLISH
BEGIN:VEVENT
DTSTAMP:20260421T012344Z
CREATED:20080727T180657Z
UID:ATEvent-821569f210edda49ed0901093b6b6544
LAST-MODIFIED:20080917T194220Z
SUMMARY:Der CarPC Stammtisch
DTSTART:20080926T170000Z
DTEND:20080926T215500Z
DESCRIPTION:jeden letzten Freitag im Monat.
LOCATION:München
CATEGORIES:CarPC-Treffen.de
CONTACT:info@carunity.net
URL:http://www.carunity.net
CLASS:PUBLIC
END:VEVENT
END:VCALENDAR
