BEGIN:VCALENDAR
PRODID:-//AT Content Types//AT Event//EN
VERSION:2.0
METHOD:PUBLISH
BEGIN:VEVENT
DTSTAMP:20260421T012321Z
CREATED:20080917T192927Z
UID:ATEvent-337c1f6ebbe5e56b18d3e6f1412d7138
LAST-MODIFIED:20080917T193551Z
SUMMARY:Der CarPC Stammtisch
DTSTART:20081017T170000Z
DTEND:20081017T215500Z
DESCRIPTION:der Nürnberger CarPC Stammtisch ist für alle die einmal 
 im Monat abends nicht vor dem Bildschirm Tippen wollen ...
LOCATION:Nürnberg
CONTACT:billy\, billy@carpc-treffen.de
CLASS:PUBLIC
END:VEVENT
END:VCALENDAR
