BEGIN:VCALENDAR
PRODID:-//AT Content Types//AT Event//EN
VERSION:1.0
BEGIN:VEVENT
DTSTART:20080907T080000Z
DTEND:20080907T215500Z
DCREATED:20080727T175943Z
UID:ATEvent-01a715672b7f724546a758007ccaa87e
SEQUENCE:0
LAST-MODIFIED:20080727T220952Z
SUMMARY:Grillfest München Autokino Day 2008
DESCRIPTION:Das Grillfest München veranstaltet dieses Jahr wieder ein
 mal ein Grillfest im Autokino\, jedoch nicht wie die letzten 2 Jahre a
 n einem Samstag\, sondern als komplettes Tagestreffen an einem Sonntag
 !
LOCATION:Autokino Aschheim (bei München)
PRIORITY:3
TRANSP:0
END:VEVENT
END:VCALENDAR
