BEGIN:VCALENDAR
PRODID:-//AT Content Types//AT Event//EN
VERSION:2.0
METHOD:PUBLISH
BEGIN:VEVENT
DTSTAMP:20260421T031939Z
CREATED:20080727T180657Z
UID:ATEvent-f3359a1ea931f3f43204b0c3670daca4
LAST-MODIFIED:20080727T220925Z
SUMMARY:Stammtisch München
DTSTART:20080829T160000Z
DTEND:20080829T215500Z
DESCRIPTION:jeden letzten Freitag im Monat.
LOCATION:München
CATEGORIES:CarPC-Treffen.de
CONTACT:info@carunity.net
URL:http://www.carunity.net
CLASS:PUBLIC
END:VEVENT
END:VCALENDAR
